BEGIN:VCALENDAR
VERSION:2.0
CALSCALE:GREGORIAN
PRODID:adamgibbons/ics
METHOD:PUBLISH
X-WR-CALNAME:Kvirkalendaro
X-PUBLISHED-TTL:PT1H
BEGIN:VEVENT
UID:895236a252d93e810bf01ff5cff0c5813fe8effc@pronouns.page
SUMMARY:Fiermonato
DTSTAMP:20260421T091538Z
DTSTART;VALUE=DATE:20250601
DTEND;VALUE=DATE:20250701
SEQUENCE:1
END:VEVENT
BEGIN:VEVENT
UID:ef6e39f648dab866f97fc73baae943f6840d34b6@pronouns.page
SUMMARY:Internacia Monato de Scio pri Transgenruloj
DTSTAMP:20260421T091538Z
DTSTART;VALUE=DATE:20251101
DTEND;VALUE=DATE:20251201
SEQUENCE:1
END:VEVENT
BEGIN:VEVENT
UID:419c48bf0d7b70fcdca76e3dd422c1157994ae33@pronouns.page
SUMMARY:Monato de Scio pri Ambaŭseksemula Sano
DTSTAMP:20260421T091538Z
DTSTART;VALUE=DATE:20250301
DTEND;VALUE=DATE:20250401
SEQUENCE:1
END:VEVENT
BEGIN:VEVENT
UID:642fabf91f5173079adcc24a7ddaa879085abca3@pronouns.page
SUMMARY:Monato de scio pri Neromantikemo
DTSTAMP:20260421T091538Z
DTSTART;VALUE=DATE:20250201
DTEND;VALUE=DATE:20250301
SEQUENCE:1
END:VEVENT
BEGIN:VEVENT
UID:6b612c20b1a828ab2e3fc70e276515f9c978f267@pronouns.page
SUMMARY:Monato de Suicidprevento
DTSTAMP:20260421T091538Z
DTSTART;VALUE=DATE:20250901
DTEND;VALUE=DATE:20251001
SEQUENCE:1
END:VEVENT
BEGIN:VEVENT
UID:5a43fef9ec79cdb7148c219c980551681ad5db9f@pronouns.page
SUMMARY:Monato de Scio pri Aidoso
DTSTAMP:20260421T091538Z
DTSTART;VALUE=DATE:20251201
DTEND;VALUE=DATE:20260101
SEQUENCE:1
END:VEVENT
BEGIN:VEVENT
UID:79d36e3fb9e81f47562febfce5f1de6d994477bb@pronouns.page
SUMMARY:Monato de Historio de Transgenruloj
DTSTAMP:20260421T091538Z
DTSTART;VALUE=DATE:20250801
DTEND;VALUE=DATE:20250901
SEQUENCE:1
END:VEVENT
BEGIN:VEVENT
UID:2312c5a23a13d0e35f7bf31e56ebbc3019f344ed@pronouns.page
SUMMARY:Kolermonato
DTSTAMP:20260421T091538Z
DTSTART;VALUE=DATE:20250701
DTEND;VALUE=DATE:20250801
SEQUENCE:1
END:VEVENT
BEGIN:VEVENT
UID:507258efd5eee01da45f146cb7add7fbe6dad2d8@pronouns.page
SUMMARY:Naskiĝtago de Pronomejo (Pronouns.page)
DTSTAMP:20260421T091538Z
DTSTART;VALUE=DATE:20250723
DTEND;VALUE=DATE:20250724
SEQUENCE:1
END:VEVENT
BEGIN:VEVENT
UID:efeb6acf470208c92db88db1f871016a998d7f1a@pronouns.page
SUMMARY:Fiertago de Sengenruloj
DTSTAMP:20260421T091538Z
DTSTART;VALUE=DATE:20250519
DTEND;VALUE=DATE:20250520
SEQUENCE:1
END:VEVENT
BEGIN:VEVENT
UID:1450f4b6f22fbbdffabfcc19d0cda2883b39ec62@pronouns.page
SUMMARY:Internacia Tago de Neseksemuloj
DTSTAMP:20260421T091538Z
DTSTART;VALUE=DATE:20250406
DTEND;VALUE=DATE:20250407
SEQUENCE:1
END:VEVENT
BEGIN:VEVENT
UID:9a5765d8eff04b28905ff9ce70d5506c4db69394@pronouns.page
SUMMARY:Festotago de Ambaŭseksemo
DTSTAMP:20260421T091538Z
DTSTART;VALUE=DATE:20250923
DTEND;VALUE=DATE:20250924
SEQUENCE:1
END:VEVENT
BEGIN:VEVENT
UID:3f94582da2a05182152d08a54781aa3328bc3a2e@pronouns.page
SUMMARY:Drag-Tago
DTSTAMP:20260421T091538Z
DTSTART;VALUE=DATE:20250716
DTEND;VALUE=DATE:20250717
SEQUENCE:1
END:VEVENT
BEGIN:VEVENT
UID:4749e6c63dfb60639b0a9a2ed6ae5f972789fe56@pronouns.page
SUMMARY:Internacia Tago Kontraŭ Homofobio\, Transfobio kaj Ambaŭemfobio
DTSTAMP:20260421T091538Z
DTSTART;VALUE=DATE:20250517
DTEND;VALUE=DATE:20250518
SEQUENCE:1
END:VEVENT
BEGIN:VEVENT
UID:d9058ce1994f2e6a8fcabbf27e3ff86d31cf18ce@pronouns.page
SUMMARY:Tago de Scio pri Interseksuloj
DTSTAMP:20260421T091538Z
DTSTART;VALUE=DATE:20251026
DTEND;VALUE=DATE:20251027
SEQUENCE:1
END:VEVENT
BEGIN:VEVENT
UID:11c55889f948aa0e2af4dd27cea74b98269cc8ac@pronouns.page
SUMMARY:Tago de Memoro pri Interseksuloj
DTSTAMP:20260421T091538Z
DTSTART;VALUE=DATE:20251108
DTEND;VALUE=DATE:20251109
SEQUENCE:1
END:VEVENT
BEGIN:VEVENT
UID:ffe0b5190d1b76aec01b3e61a5dab31333c6f12f@pronouns.page
SUMMARY:Internacia Tago de Lesboj
DTSTAMP:20260421T091538Z
DTSTART;VALUE=DATE:20251008
DTEND;VALUE=DATE:20251009
SEQUENCE:1
END:VEVENT
BEGIN:VEVENT
UID:5adb5d901025894b7b6ab6049277e6ebe4ede4d2@pronouns.page
SUMMARY:Internacia Tago de Videbleco de Lesboj
DTSTAMP:20260421T091538Z
DTSTART;VALUE=DATE:20250426
DTEND;VALUE=DATE:20250427
SEQUENCE:1
END:VEVENT
BEGIN:VEVENT
UID:aa3a9b4c88ae75b707866354b6cc0b23153513e6@pronouns.page
SUMMARY:Elŝrankiĝ-Tago
DTSTAMP:20260421T091538Z
DTSTART;VALUE=DATE:20251011
DTEND;VALUE=DATE:20251012
SEQUENCE:1
END:VEVENT
BEGIN:VEVENT
UID:1998bf27ce14edad0f2e79aa672db6f879c3711d@pronouns.page
SUMMARY:Internacia Tago de Neduumuloj
DTSTAMP:20260421T091538Z
DTSTART;VALUE=DATE:20250714
DTEND;VALUE=DATE:20250715
SEQUENCE:1
END:VEVENT
BEGIN:VEVENT
UID:896e9bee97eb74666ffa20dcdbd9821dccf32004@pronouns.page
SUMMARY:Tago de Scio pri Ĉiuseksemuloj kaj Ĉiuromantikemuloj
DTSTAMP:20260421T091538Z
DTSTART;VALUE=DATE:20250524
DTEND;VALUE=DATE:20250525
SEQUENCE:1
END:VEVENT
BEGIN:VEVENT
UID:0f36f06a3be06b3d33efb2c32d6a92751a58aead@pronouns.page
SUMMARY:Tago de Transgenra Memorado
DTSTAMP:20260421T091538Z
DTSTART;VALUE=DATE:20251120
DTEND;VALUE=DATE:20251121
SEQUENCE:1
END:VEVENT
BEGIN:VEVENT
UID:a9350fb6efe9eed74567068b28b0acbb5303f206@pronouns.page
SUMMARY:Internacia Tago de Videbleco de Transgenruloj
DTSTAMP:20260421T091538Z
DTSTART;VALUE=DATE:20250331
DTEND;VALUE=DATE:20250401
SEQUENCE:1
END:VEVENT
BEGIN:VEVENT
UID:25f54ccbec5e714a839f528d7abd7d6933aec914@pronouns.page
SUMMARY:«Neniu Diskriminacio» Tago
DTSTAMP:20260421T091538Z
DTSTART;VALUE=DATE:20250301
DTEND;VALUE=DATE:20250302
SEQUENCE:1
END:VEVENT
BEGIN:VEVENT
UID:0e28c998e3c9d0da7f57efe7c184bbbc4a584a6b@pronouns.page
SUMMARY:Pluramemo-Tago
DTSTAMP:20260421T091538Z
DTSTART;VALUE=DATE:20251123
DTEND;VALUE=DATE:20251124
SEQUENCE:1
END:VEVENT
BEGIN:VEVENT
UID:002f5ba656478c6800e5d2dfad5e4f8623f82249@pronouns.page
SUMMARY:Internacia Tago kontraŭ Homofobio en Sportoj
DTSTAMP:20260421T091538Z
DTSTART;VALUE=DATE:20250219
DTEND;VALUE=DATE:20250220
SEQUENCE:1
END:VEVENT
BEGIN:VEVENT
UID:eaefb8a7897d1371fe1878c5b8cb140fd6404978@pronouns.page
SUMMARY:Tago de GLAT-aj Sciencistoj\, Teknologiistoj\, Inĝenieroj kaj Matem
	atikistoj
DTSTAMP:20260421T091538Z
DTSTART;VALUE=DATE:20251118
DTEND;VALUE=DATE:20251119
SEQUENCE:1
END:VEVENT
BEGIN:VEVENT
UID:e52ce97b2a5d29920e59fd8288399daf77336493@pronouns.page
SUMMARY:Internacia Tago de Agado kontraŭ Klasado de Transgenreco kiel Malsa
	non
DTSTAMP:20260421T091538Z
DTSTART;VALUE=DATE:20251022
DTEND;VALUE=DATE:20251023
SEQUENCE:1
END:VEVENT
BEGIN:VEVENT
UID:b2671b256155ea91a5beeeec0ece41a206b43f7b@pronouns.page
SUMMARY:Internacia Tago de GLAT-a Libro
DTSTAMP:20260421T091538Z
DTSTART;VALUE=DATE:20250401
DTEND;VALUE=DATE:20250402
SEQUENCE:1
END:VEVENT
BEGIN:VEVENT
UID:3e4873fd0176c0c9c60003e5538a7772bca80ead@pronouns.page
SUMMARY:Tago de la Homaj Rajtoj
DTSTAMP:20260421T091538Z
DTSTART;VALUE=DATE:20251210
DTEND;VALUE=DATE:20251211
SEQUENCE:1
END:VEVENT
BEGIN:VEVENT
UID:48fa775fe7c026e719fce24f0e0d5935247dc209@pronouns.page
SUMMARY:Tago de Ago kaj Solidareco por Transgenraj Malliberuloj
DTSTAMP:20260421T091538Z
DTSTART;VALUE=DATE:20250122
DTEND;VALUE=DATE:20250123
SEQUENCE:1
END:VEVENT
BEGIN:VEVENT
UID:884465de9950aa56e3ba8902cdce26762b1195e7@pronouns.page
SUMMARY:Tago de Videbleco de Ksenogenruloj
DTSTAMP:20260421T091538Z
DTSTART;VALUE=DATE:20250515
DTEND;VALUE=DATE:20250516
SEQUENCE:1
END:VEVENT
BEGIN:VEVENT
UID:7330c3a3c854f987b36e92413196207b07053870@pronouns.page
SUMMARY:Tago de Videbleco de Genrokviruloj
DTSTAMP:20260421T091538Z
DTSTART;VALUE=DATE:20250425
DTEND;VALUE=DATE:20250426
SEQUENCE:1
END:VEVENT
BEGIN:VEVENT
UID:b54639eb6c4f2227d55df3947df531309f08b732@pronouns.page
SUMMARY:Tago de Videbleco de Genrofluuloj
DTSTAMP:20260421T091538Z
DTSTART;VALUE=DATE:20250616
DTEND;VALUE=DATE:20250617
SEQUENCE:1
END:VEVENT
BEGIN:VEVENT
UID:059dc13a5418c639e1f52c5e918fd3c275ac0e83@pronouns.page
SUMMARY:Monda Tago de Aidoso
DTSTAMP:20260421T091538Z
DTSTART;VALUE=DATE:20251201
DTEND;VALUE=DATE:20251202
SEQUENCE:1
END:VEVENT
BEGIN:VEVENT
UID:a00912bab1fd9a859e5ce914275a66d5fca019d9@pronouns.page
SUMMARY:Internacia Tago de Toleremo
DTSTAMP:20260421T091538Z
DTSTART;VALUE=DATE:20251116
DTEND;VALUE=DATE:20251117
SEQUENCE:1
END:VEVENT
BEGIN:VEVENT
UID:95277300f15cc1512cd4fe607d6f5c42a3dc4179@pronouns.page
SUMMARY:Internacia Tago de Socia Justeco
DTSTAMP:20260421T091538Z
DTSTART;VALUE=DATE:20250220
DTEND;VALUE=DATE:20250221
SEQUENCE:1
END:VEVENT
BEGIN:VEVENT
UID:35b82ca93b56361328b9dab2d41ad41e420bdf91@pronouns.page
SUMMARY:Datreveno de la Ribelo de Stonewall
DTSTAMP:20260421T091538Z
DTSTART;VALUE=DATE:20250628
DTEND;VALUE=DATE:20250629
SEQUENCE:1
END:VEVENT
BEGIN:VEVENT
UID:ca414903a12a57a23433056f68bbfcd881020d7f@pronouns.page
SUMMARY:GLAT-a Tago de Scio pri Hejma Perforto
DTSTAMP:20260421T091538Z
DTSTART;VALUE=DATE:20250528
DTEND;VALUE=DATE:20250529
SEQUENCE:1
END:VEVENT
BEGIN:VEVENT
UID:53125ec07af46ebca9865c603ff8239cac35dd1b@pronouns.page
SUMMARY:Tago de Videbleco de Plurseksemo kaj Plurromantikemo
DTSTAMP:20260421T091538Z
DTSTART;VALUE=DATE:20250726
DTEND;VALUE=DATE:20250727
SEQUENCE:1
END:VEVENT
BEGIN:VEVENT
UID:99e9143de97c58d0671a09e23645cc8dbd3840af@pronouns.page
SUMMARY:Nokto de Memoro pri la Masakro en la Noktoklubo Pulse
DTSTAMP:20260421T091538Z
DTSTART;VALUE=DATE:20250612
DTEND;VALUE=DATE:20250613
SEQUENCE:1
END:VEVENT
BEGIN:VEVENT
UID:5c4a2ed8d71d7fc20fa86f2e9f334c688ce7d9d0@pronouns.page
SUMMARY:Internacia Tago de Scio pri Duongenruloj
DTSTAMP:20260421T091538Z
DTSTART;VALUE=DATE:20251215
DTEND;VALUE=DATE:20251216
SEQUENCE:1
END:VEVENT
BEGIN:VEVENT
UID:577df167a622fd791186eadac4aa47eaaef38c9c@pronouns.page
SUMMARY:Ĉiuseksema Fiertago
DTSTAMP:20260421T091538Z
DTSTART;VALUE=DATE:20251208
DTEND;VALUE=DATE:20251209
SEQUENCE:1
END:VEVENT
BEGIN:VEVENT
UID:77af2fb03b98c46d6d7412d038600d5739583726@pronouns.page
SUMMARY:Tago de Transmasklaj Personoj
DTSTAMP:20260421T091538Z
DTSTART;VALUE=DATE:20250220
DTEND;VALUE=DATE:20250221
SEQUENCE:1
END:VEVENT
BEGIN:VEVENT
UID:d859572a61619f5025c58f5e194bb317f5f79f12@pronouns.page
SUMMARY:Tago de Videbleco de Neseksemuloj
DTSTAMP:20260421T091538Z
DTSTART;VALUE=DATE:20250508
DTEND;VALUE=DATE:20250509
SEQUENCE:1
END:VEVENT
BEGIN:VEVENT
UID:5fb8136612829e284003d36b2cd3f59e8d632f11@pronouns.page
SUMMARY:Internacia Tago de Memoro pri Holokaŭsto
DTSTAMP:20260421T091538Z
DTSTART;VALUE=DATE:20250127
DTEND;VALUE=DATE:20250128
SEQUENCE:1
END:VEVENT
BEGIN:VEVENT
UID:8d8b1353f100afce7132103f1b17f5f59c821b6a@pronouns.page
SUMMARY:Tago de Nigra Rubando
DTSTAMP:20260421T091538Z
DTSTART;VALUE=DATE:20250823
DTEND;VALUE=DATE:20250824
SEQUENCE:1
END:VEVENT
BEGIN:VEVENT
UID:b48a491d9f1f6104ebc1138c13343b490f7a4e61@pronouns.page
SUMMARY:Fiertago de Okcident-Aziaj kaj Nord-Afrikaj Lesboj kaj Kvirulinoj
DTSTAMP:20260421T091538Z
DTSTART;VALUE=DATE:20250613
DTEND;VALUE=DATE:20250614
SEQUENCE:1
END:VEVENT
BEGIN:VEVENT
UID:0f2bc8a33a77679f0d432e1bda41eb7bda20e156@pronouns.page
SUMMARY:Monda Tago de Suicidprevento
DTSTAMP:20260421T091538Z
DTSTART;VALUE=DATE:20250910
DTEND;VALUE=DATE:20250911
SEQUENCE:1
END:VEVENT
BEGIN:VEVENT
UID:b7e924df14728488b59daafac792afe18aabe933@pronouns.page
SUMMARY:Internacia Tago de HIV-Testado
DTSTAMP:20260421T091538Z
DTSTART;VALUE=DATE:20250627
DTEND;VALUE=DATE:20250628
SEQUENCE:1
END:VEVENT
BEGIN:VEVENT
UID:c19603bfb4288d44f41e96f48004e399ae7e8a86@pronouns.page
SUMMARY:Tago de Scio pri Vestad-Libereco
DTSTAMP:20260421T091538Z
DTSTART;VALUE=DATE:20251203
DTEND;VALUE=DATE:20251204
SEQUENCE:1
END:VEVENT
BEGIN:VEVENT
UID:a2329261c782c18e4ee84853c7abdfaad856ae0d@pronouns.page
SUMMARY:Tago de Scio pri Seksa kaj Reprodukta Sano
DTSTAMP:20260421T091538Z
DTSTART;VALUE=DATE:20250212
DTEND;VALUE=DATE:20250213
SEQUENCE:1
END:VEVENT
BEGIN:VEVENT
UID:0c55e24778bc73717bcbb76470b5978b3af0879e@pronouns.page
SUMMARY:Monda Tago de Seksa Sano
DTSTAMP:20260421T091538Z
DTSTART;VALUE=DATE:20250904
DTEND;VALUE=DATE:20250905
SEQUENCE:1
END:VEVENT
BEGIN:VEVENT
UID:078c4279164f67efedb5a6f5e61592ddedc075e3@pronouns.page
SUMMARY:Monda Tago de Vakcino kontraŭ Aidoso
DTSTAMP:20260421T091538Z
DTSTART;VALUE=DATE:20250518
DTEND;VALUE=DATE:20250519
SEQUENCE:1
END:VEVENT
BEGIN:VEVENT
UID:fca94d66ec95db11e987e838f17f74742b0cf24f@pronouns.page
SUMMARY:Tago de Videbleco de Omniseksemuloj
DTSTAMP:20260421T091538Z
DTSTART;VALUE=DATE:20250706
DTEND;VALUE=DATE:20250707
SEQUENCE:1
END:VEVENT
BEGIN:VEVENT
UID:d0f38c4bbe14e11f1799d59379e5931b2d5a1113@pronouns.page
SUMMARY:Tago de Kvira Junularo
DTSTAMP:20260421T091538Z
DTSTART;VALUE=DATE:20250630
DTEND;VALUE=DATE:20250701
SEQUENCE:1
END:VEVENT
BEGIN:VEVENT
UID:e4374cc592d1497b8d74ece24800596aa4c86795@pronouns.page
SUMMARY:Tago de Videbleco de Senetikeduloj
DTSTAMP:20260421T091538Z
DTSTART;VALUE=DATE:20250119
DTEND;VALUE=DATE:20250120
SEQUENCE:1
END:VEVENT
BEGIN:VEVENT
UID:009ad1223a65e2a6f6024a3bdba94454ad13394a@pronouns.page
SUMMARY:Tago de Scio pri Longtempe Pluvivantaj Viktomoj de HIV
DTSTAMP:20260421T091538Z
DTSTART;VALUE=DATE:20250605
DTEND;VALUE=DATE:20250606
SEQUENCE:1
END:VEVENT
BEGIN:VEVENT
UID:74c800353426ffbd25c161613c36542d9456ca7b@pronouns.page
SUMMARY:Tago de Scio pri Ulinoj kun HIV/Aidoso
DTSTAMP:20260421T091538Z
DTSTART;VALUE=DATE:20250310
DTEND;VALUE=DATE:20250311
SEQUENCE:1
END:VEVENT
BEGIN:VEVENT
UID:31f5d52e746b7533f232cd1e95e2de3fb274637d@pronouns.page
SUMMARY:Tago de Scio pri Junuloj kun HIV/Aidoso
DTSTAMP:20260421T091538Z
DTSTART;VALUE=DATE:20250410
DTEND;VALUE=DATE:20250411
SEQUENCE:1
END:VEVENT
BEGIN:VEVENT
UID:9e91101094f1ca0d57cc9d7e5bce8d3a250c1c9d@pronouns.page
SUMMARY:Gejiĉa Tago de Scio pri Aidoso/HIV
DTSTAMP:20260421T091538Z
DTSTART;VALUE=DATE:20250927
DTEND;VALUE=DATE:20250928
SEQUENCE:1
END:VEVENT
BEGIN:VEVENT
UID:48d79b3083984e2a083faf6d6831326f79c3ec57@pronouns.page
SUMMARY:Tago de Scio pri Nigruloj kun HIV/Aidoso
DTSTAMP:20260421T091538Z
DTSTART;VALUE=DATE:20250207
DTEND;VALUE=DATE:20250208
SEQUENCE:1
END:VEVENT
BEGIN:VEVENT
UID:10754764f2e2e872c311f826dd1e2012363eb554@pronouns.page
SUMMARY:Tago de Scio pri Maljuniĝado kun HIV/Aidoso
DTSTAMP:20260421T091538Z
DTSTART;VALUE=DATE:20250918
DTEND;VALUE=DATE:20250919
SEQUENCE:1
END:VEVENT
BEGIN:VEVENT
UID:18761c479f4c8a519ea246628db57eee6e372d5f@pronouns.page
SUMMARY:Transgenrula Tago de HIV-Testado
DTSTAMP:20260421T091538Z
DTSTART;VALUE=DATE:20250418
DTEND;VALUE=DATE:20250419
SEQUENCE:1
END:VEVENT
BEGIN:VEVENT
UID:3a5a9e65d7ae99b2cd06847b21f11e38d8f5822e@pronouns.page
SUMMARY:Tago de Videbleco de la Transgenra Junularo
DTSTAMP:20260421T091538Z
DTSTART;VALUE=DATE:20250514
DTEND;VALUE=DATE:20250515
SEQUENCE:1
END:VEVENT
BEGIN:VEVENT
UID:9f2014c37c8630faa96ea582bc7c3086b8dfbced@pronouns.page
SUMMARY:Tago de Videbleco kaj Scio pri Lesboj sur la Plurseksema Spektro
DTSTAMP:20260421T091538Z
DTSTART;VALUE=DATE:20250526
DTEND;VALUE=DATE:20250527
SEQUENCE:1
END:VEVENT
BEGIN:VEVENT
UID:d82d5f1d41ac74462c45c00db1bc9453f961baf0@pronouns.page
SUMMARY:Semajno de Videbleco kaj Scio pri Lesboj sur la Plurseksema Spektro
DTSTAMP:20260421T091538Z
DTSTART;VALUE=DATE:20250522
DTEND;VALUE=DATE:20250529
SEQUENCE:1
END:VEVENT
BEGIN:VEVENT
UID:030417b6a86af3e20863eeb60edd9e11ad788ce6@pronouns.page
SUMMARY:Internacia Tago de Sekslaboristoj
DTSTAMP:20260421T091538Z
DTSTART;VALUE=DATE:20250602
DTEND;VALUE=DATE:20250603
SEQUENCE:1
END:VEVENT
BEGIN:VEVENT
UID:db4351ddf5a4175bcf4d355db5ce322b5b9080a1@pronouns.page
SUMMARY:Fiertago de Sekslaboristoj
DTSTAMP:20260421T091538Z
DTSTART;VALUE=DATE:20250914
DTEND;VALUE=DATE:20250915
SEQUENCE:1
END:VEVENT
BEGIN:VEVENT
UID:e59af0d235cc3af5a424f800d7949d1f07c7c94f@pronouns.page
SUMMARY:Internacia Tago de Rajtoj de Sekslaboristoj
DTSTAMP:20260421T091538Z
DTSTART;VALUE=DATE:20250303
DTEND;VALUE=DATE:20250304
SEQUENCE:1
END:VEVENT
BEGIN:VEVENT
UID:28cfc3b634208beb99a1c9cf963cdc4b4fd78f8c@pronouns.page
SUMMARY:Internacia Tago por Fini Violenton kontraŭ Sekslaboristoj
DTSTAMP:20260421T091538Z
DTSTART;VALUE=DATE:20251217
DTEND;VALUE=DATE:20251218
SEQUENCE:1
END:VEVENT
BEGIN:VEVENT
UID:bbf871f6744b489acd9bb48560c3fd6b3bd34bfa@pronouns.page
SUMMARY:Fiertago de Omniseksemuloj kaj Omniromantikemuloj kaj Tago de Scio 
	pri Ili
DTSTAMP:20260421T091538Z
DTSTART;VALUE=DATE:20250606
DTEND;VALUE=DATE:20250607
SEQUENCE:1
END:VEVENT
BEGIN:VEVENT
UID:8ff1a88b1ed4e05a7410e2673aec52f6c7291263@pronouns.page
SUMMARY:Tago de Videbleco kaj Scio pri Gejoj sur la Plurseksema Spektro
DTSTAMP:20260421T091538Z
DTSTART;VALUE=DATE:20250707
DTEND;VALUE=DATE:20250708
SEQUENCE:1
END:VEVENT
BEGIN:VEVENT
UID:44ffe7b3e0a5731f251b46ad044f843fdd67a87d@pronouns.page
SUMMARY:Semajno de Videbleco kaj Scio pri Gejoj sur la Plurseksema Spektro
DTSTAMP:20260421T091538Z
DTSTART;VALUE=DATE:20250704
DTEND;VALUE=DATE:20250711
SEQUENCE:1
END:VEVENT
BEGIN:VEVENT
UID:2bae15bcee9494f194df91d37f1707d7ac9f9482@pronouns.page
SUMMARY:«HIV Ne Estas Krimo» Tago
DTSTAMP:20260421T091538Z
DTSTART;VALUE=DATE:20250228
DTEND;VALUE=DATE:20250301
SEQUENCE:1
END:VEVENT
BEGIN:VEVENT
UID:ecd86a17e9f4d6c544c5372f25fb3786514fc807@pronouns.page
SUMMARY:Tago de la Trans-Flago
DTSTAMP:20260421T091538Z
DTSTART;VALUE=DATE:20250819
DTEND;VALUE=DATE:20250820
SEQUENCE:1
END:VEVENT
BEGIN:VEVENT
UID:616af015e7cbc24b87c187250b6f4263f2acc14c@pronouns.page
SUMMARY:Tago de Alan Turing
DTSTAMP:20260421T091538Z
DTSTART;VALUE=DATE:20250623
DTEND;VALUE=DATE:20250624
SEQUENCE:1
END:VEVENT
BEGIN:VEVENT
UID:ccd41dfd5bc825d16a7f1c01a4d29cd2e611fbf1@pronouns.page
SUMMARY:Tago de Neduumaj Junuloj
DTSTAMP:20260421T091538Z
DTSTART;VALUE=DATE:20251001
DTEND;VALUE=DATE:20251002
SEQUENCE:1
END:VEVENT
BEGIN:VEVENT
UID:fb5e562c0dc723cd3d9d361429c3e8a8f71d4c68@pronouns.page
SUMMARY:Tago de Videbleco kaj Scio pri Iĉecaj Lesboj
DTSTAMP:20260421T091538Z
DTSTART;VALUE=DATE:20250804
DTEND;VALUE=DATE:20250805
SEQUENCE:1
END:VEVENT
BEGIN:VEVENT
UID:9672ccc90cde135553e4f59654f9b4795719be04@pronouns.page
SUMMARY:Semajno de Videbleco kaj Scio pri Iĉecaj Lesboj
DTSTAMP:20260421T091538Z
DTSTART;VALUE=DATE:20250801
DTEND;VALUE=DATE:20250808
SEQUENCE:1
END:VEVENT
BEGIN:VEVENT
UID:2e6f07f7b29970e13ceb95912b6aac185d24f4ad@pronouns.page
SUMMARY:Tago de Ambaŭseksemaj Aŭtoroj
DTSTAMP:20260421T091538Z
DTSTART;VALUE=DATE:20250415
DTEND;VALUE=DATE:20250416
SEQUENCE:1
END:VEVENT
BEGIN:VEVENT
UID:b1137a4339679121c254a4b1438553f99d20eda3@pronouns.page
SUMMARY:Tago de Videbleco de Senplatonemuloj
DTSTAMP:20260421T091538Z
DTSTART;VALUE=DATE:20250504
DTEND;VALUE=DATE:20250505
SEQUENCE:1
END:VEVENT
BEGIN:VEVENT
UID:2655a5f34d64cca84f96d76ef2762c01c46c9b57@pronouns.page
SUMMARY:Tago de Videbleco de Neromantikemuloj
DTSTAMP:20260421T091538Z
DTSTART;VALUE=DATE:20250605
DTEND;VALUE=DATE:20250606
SEQUENCE:1
END:VEVENT
BEGIN:VEVENT
UID:0bce7ab8a1e4aa2483b92e095b8fe8386673751f@pronouns.page
SUMMARY:Tago de Videbleco de la Neromantikema Spektro
DTSTAMP:20260421T091538Z
DTSTART;VALUE=DATE:20250825
DTEND;VALUE=DATE:20250826
SEQUENCE:1
END:VEVENT
BEGIN:VEVENT
UID:a7e01073bd776311aefa4a8059bae2a59283d2ec@pronouns.page
SUMMARY:Tago de Videbleco de Ne-monogamio
DTSTAMP:20260421T091538Z
DTSTART;VALUE=DATE:20250715
DTEND;VALUE=DATE:20250716
SEQUENCE:1
END:VEVENT
BEGIN:VEVENT
UID:c0f4b825b9d1d80dc1c7779a55336383c35ef93c@pronouns.page
SUMMARY:Semajno de Scio pri la Neromantikema Spektro
DTSTAMP:20260421T091538Z
DTSTART;VALUE=DATE:20250216
DTEND;VALUE=DATE:20250223
SEQUENCE:1
END:VEVENT
BEGIN:VEVENT
UID:218261e379cd4b0b7c2034aee4c3c38bbfe09eb1@pronouns.page
SUMMARY:Semajno de Neseksemuloj
DTSTAMP:20260421T091538Z
DTSTART;VALUE=DATE:20251019
DTEND;VALUE=DATE:20251026
SEQUENCE:1
END:VEVENT
BEGIN:VEVENT
UID:276596300268f72a2e18319dab38355263a9066f@pronouns.page
SUMMARY:Tago de Videbleco de Ambaŭseksemuloj
DTSTAMP:20260421T091538Z
DTSTART;VALUE=DATE:20250916
DTEND;VALUE=DATE:20250923
SEQUENCE:1
END:VEVENT
BEGIN:VEVENT
UID:348bccc312f52a75f95e7cd683dafe519e15d0c2@pronouns.page
SUMMARY:Pronom-Tago
DTSTAMP:20260421T091538Z
DTSTART;VALUE=DATE:20251015
DTEND;VALUE=DATE:20251016
SEQUENCE:1
END:VEVENT
BEGIN:VEVENT
UID:c4ca153fc649c612c4e0ab4467d8606fee5c242d@pronouns.page
SUMMARY:Semajno de Scio pri Transgenreco
DTSTAMP:20260421T091538Z
DTSTART;VALUE=DATE:20251113
DTEND;VALUE=DATE:20251120
SEQUENCE:1
END:VEVENT
BEGIN:VEVENT
UID:64a89a64c26f9c7979fc9b9fff183d315f5159f5@pronouns.page
SUMMARY:Tago de Transaj Gepatroj
DTSTAMP:20260421T091538Z
DTSTART;VALUE=DATE:20251102
DTEND;VALUE=DATE:20251103
SEQUENCE:1
END:VEVENT
BEGIN:VEVENT
UID:6878ac831d946ce7c273b45f2f8a9046618c0223@pronouns.page
SUMMARY:Semajno de Scio pri Neduumeco
DTSTAMP:20260421T091538Z
DTSTART;VALUE=DATE:20250707
DTEND;VALUE=DATE:20250714
SEQUENCE:1
END:VEVENT
BEGIN:VEVENT
UID:d164e839cbf89f5c194a1da65341934dc9916a56@pronouns.page
SUMMARY:Tago de Lesbaj Onklinoj
DTSTAMP:20260421T091538Z
DTSTART;VALUE=DATE:20250713
DTEND;VALUE=DATE:20250714
SEQUENCE:1
END:VEVENT
BEGIN:VEVENT
UID:e3152ac4092fdcf5a10c379f77239d750c1f8d44@pronouns.page
SUMMARY:Tago de Gejaj Onkliĉoj
DTSTAMP:20260421T091538Z
DTSTART;VALUE=DATE:20250810
DTEND;VALUE=DATE:20250811
SEQUENCE:1
END:VEVENT
BEGIN:VEVENT
UID:8fe7f2b3273e5641454d86c9200bab3d296cf2b3@pronouns.page
SUMMARY:Internacia Memortago pri Mortintaj pro Aidoso
DTSTAMP:20260421T091538Z
DTSTART;VALUE=DATE:20250518
DTEND;VALUE=DATE:20250519
SEQUENCE:1
END:VEVENT
BEGIN:VEVENT
UID:8ed22c3344505f72f76356993a034d40faaca202@pronouns.page
SUMMARY:Semajno de Scio pri GLAT-a Sano
DTSTAMP:20260421T091538Z
DTSTART;VALUE=DATE:20250324
DTEND;VALUE=DATE:20250329
SEQUENCE:1
END:VEVENT
BEGIN:VEVENT
UID:81a4d585a73d71f742940476e6cb0067a5600bfa@pronouns.page
SUMMARY:Semajno de Videbleco de Lesboj
DTSTAMP:20260421T091538Z
DTSTART;VALUE=DATE:20250421
DTEND;VALUE=DATE:20250428
SEQUENCE:1
END:VEVENT
BEGIN:VEVENT
UID:fc793b5aaa808541d439eb1efddcf70c4b373ae8@pronouns.page
SUMMARY:Internacia Tago de Familiegaleco
DTSTAMP:20260421T091538Z
DTSTART;VALUE=DATE:20250504
DTEND;VALUE=DATE:20250505
SEQUENCE:1
END:VEVENT
BEGIN:VEVENT
UID:2b30207fe07bf6d5cf13ec317b479d5672a2e17f@pronouns.page
SUMMARY:Semajno de Historio de Nigrahaŭtaj Kviruloj
DTSTAMP:20260421T091538Z
DTSTART;VALUE=DATE:20250217
DTEND;VALUE=DATE:20250224
SEQUENCE:1
END:VEVENT
BEGIN:VEVENT
UID:c2a9d8368a5008aff5d1a6487d20c2fb7444f938@pronouns.page
SUMMARY:Semajno de Scio pri Malam-Krimo
DTSTAMP:20260421T091538Z
DTSTART;VALUE=DATE:20251011
DTEND;VALUE=DATE:20251019
SEQUENCE:1
END:VEVENT
BEGIN:VEVENT
UID:809c60a3d65d5fed989c4967e3df8ea1eebb295f@pronouns.page
SUMMARY:Semajno de Scio pri Genrofluuloj
DTSTAMP:20260421T091538Z
DTSTART;VALUE=DATE:20251017
DTEND;VALUE=DATE:20251024
SEQUENCE:1
END:VEVENT
BEGIN:VEVENT
UID:d247c8a46a8c5ffab5b996a29b322fed093ae041@pronouns.page
SUMMARY:Ĉiuseksemula Semajno
DTSTAMP:20260421T091538Z
DTSTART;VALUE=DATE:20251206
DTEND;VALUE=DATE:20251213
SEQUENCE:1
END:VEVENT
BEGIN:VEVENT
UID:bcacce48da48b0b45587e78ad6662102d9b0fbc7@pronouns.page
SUMMARY:Genre Ekspansia Tago de Gepatro
DTSTAMP:20260421T091538Z
DTSTART;VALUE=DATE:20251207
DTEND;VALUE=DATE:20251208
SEQUENCE:1
END:VEVENT
BEGIN:VEVENT
UID:2573d257c93d1853fe37ef6990c16bd975faa09c@pronouns.page
SUMMARY:Semajno de Transgenra Transiro
DTSTAMP:20260421T091538Z
DTSTART;VALUE=DATE:20250127
DTEND;VALUE=DATE:20250201
SEQUENCE:1
END:VEVENT
BEGIN:VEVENT
UID:93115cdd99b3870d4700dbdf361d207158d73332@pronouns.page
SUMMARY:Tago de Patripoj
DTSTAMP:20260421T091538Z
DTSTART;VALUE=DATE:20250420
DTEND;VALUE=DATE:20250421
SEQUENCE:1
END:VEVENT
BEGIN:VEVENT
UID:c2016e8d4641c8e0a8c40538e8591e9929c0eacb@pronouns.page
SUMMARY:Printempa Eŭropa Semajno de HIV-Testado
DTSTAMP:20260421T091538Z
DTSTART;VALUE=DATE:20250516
DTEND;VALUE=DATE:20250523
SEQUENCE:1
END:VEVENT
BEGIN:VEVENT
UID:c698153b47ff55281222f09d3f165e1ed6df4c42@pronouns.page
SUMMARY:Aŭtuna Eŭropa Semajno de HIV-Testado
DTSTAMP:20260421T091538Z
DTSTART;VALUE=DATE:20251121
DTEND;VALUE=DATE:20251128
SEQUENCE:1
END:VEVENT
END:VCALENDAR
